BEGIN:VCALENDAR
VERSION:2.0
PRODID:-//Bethany First Church - ECPv6.15.16//NONSGML v1.0//EN
CALSCALE:GREGORIAN
METHOD:PUBLISH
X-WR-CALNAME:Bethany First Church
X-ORIGINAL-URL:https://www.bethanyfirstchurch.org
X-WR-CALDESC:Events for Bethany First Church
REFRESH-INTERVAL;VALUE=DURATION:PT1H
X-Robots-Tag:noindex
X-PUBLISHED-TTL:PT1H
BEGIN:VTIMEZONE
TZID:America/New_York
BEGIN:DAYLIGHT
TZOFFSETFROM:-0500
TZOFFSETTO:-0400
TZNAME:EDT
DTSTART:20250309T070000
END:DAYLIGHT
BEGIN:STANDARD
TZOFFSETFROM:-0400
TZOFFSETTO:-0500
TZNAME:EST
DTSTART:20251102T060000
END:STANDARD
BEGIN:DAYLIGHT
TZOFFSETFROM:-0500
TZOFFSETTO:-0400
TZNAME:EDT
DTSTART:20260308T070000
END:DAYLIGHT
BEGIN:STANDARD
TZOFFSETFROM:-0400
TZOFFSETTO:-0500
TZNAME:EST
DTSTART:20261101T060000
END:STANDARD
BEGIN:DAYLIGHT
TZOFFSETFROM:-0500
TZOFFSETTO:-0400
TZNAME:EDT
DTSTART:20270314T070000
END:DAYLIGHT
BEGIN:STANDARD
TZOFFSETFROM:-0400
TZOFFSETTO:-0500
TZNAME:EST
DTSTART:20271107T060000
END:STANDARD
END:VTIMEZONE
BEGIN:VEVENT
DTSTART;TZID=America/New_York:20260301T150000
DTEND;TZID=America/New_York:20260301T170000
DTSTAMP:20260419T152753
CREATED:20260216T214126Z
LAST-MODIFIED:20260216T214126Z
UID:1250-1772377200-1772384400@www.bethanyfirstchurch.org
SUMMARY:Victorian Dancing
DESCRIPTION:Come and join us for some fun\, exercise\, and camaraderie. Enjoy dances based on the mid-1800s style. No experience needed. No need for a partner. Just a willingness to learn and have fun. \nFirst and Third Sunday of each Month \n3pm – 5pm \nWear comfortable shoes and bring your sense of humor! \nThe cost?  One non-perishable food item for donation (optional).
URL:https://www.bethanyfirstchurch.org/event/victorian-dancing-13/
LOCATION:Bethany First Church\, 511 Amity Rd\, Bethany\, CT\, United States
END:VEVENT
BEGIN:VEVENT
DTSTART;TZID=America/New_York:20260302T100000
DTEND;TZID=America/New_York:20260302T120000
DTSTAMP:20260419T152753
CREATED:20260216T214240Z
LAST-MODIFIED:20260216T214240Z
UID:1253-1772445600-1772452800@www.bethanyfirstchurch.org
SUMMARY:Bethany Quilters
DESCRIPTION:Every Monday from 10am to noon.\nQuilters meet in the Fellowship Hall to work on individual projects and/or to assist on group projects. \nBring your sewing machines and projects or just come and see what the group is all about. \nYou do not have to be a member of the Church to join.
URL:https://www.bethanyfirstchurch.org/event/bethany-quilters-14/
LOCATION:Bethany First Church\, 511 Amity Rd\, Bethany\, CT\, United States
END:VEVENT
BEGIN:VEVENT
DTSTART;TZID=America/New_York:20260309T100000
DTEND;TZID=America/New_York:20260309T120000
DTSTAMP:20260419T152753
CREATED:20260216T214307Z
LAST-MODIFIED:20260216T214307Z
UID:1255-1773050400-1773057600@www.bethanyfirstchurch.org
SUMMARY:Bethany Quilters
DESCRIPTION:Every Monday from 10am to noon.\nQuilters meet in the Fellowship Hall to work on individual projects and/or to assist on group projects. \nBring your sewing machines and projects or just come and see what the group is all about. \nYou do not have to be a member of the Church to join.
URL:https://www.bethanyfirstchurch.org/event/bethany-quilters-15/
LOCATION:Bethany First Church\, 511 Amity Rd\, Bethany\, CT\, United States
END:VEVENT
BEGIN:VEVENT
DTSTART;TZID=America/New_York:20260315T150000
DTEND;TZID=America/New_York:20260315T170000
DTSTAMP:20260419T152753
CREATED:20260216T214440Z
LAST-MODIFIED:20260216T214440Z
UID:1263-1773586800-1773594000@www.bethanyfirstchurch.org
SUMMARY:Victorian Dancing
DESCRIPTION:Come and join us for some fun\, exercise\, and camaraderie. Enjoy dances based on the mid-1800s style. No experience needed. No need for a partner. Just a willingness to learn and have fun. \nFirst and Third Sunday of each Month \n3pm – 5pm \nWear comfortable shoes and bring your sense of humor! \nThe cost?  One non-perishable food item for donation (optional).
URL:https://www.bethanyfirstchurch.org/event/victorian-dancing-14/
LOCATION:Bethany First Church\, 511 Amity Rd\, Bethany\, CT\, United States
END:VEVENT
BEGIN:VEVENT
DTSTART;TZID=America/New_York:20260316T100000
DTEND;TZID=America/New_York:20260316T120000
DTSTAMP:20260419T152753
CREATED:20260216T214333Z
LAST-MODIFIED:20260216T214333Z
UID:1257-1773655200-1773662400@www.bethanyfirstchurch.org
SUMMARY:Bethany Quilters
DESCRIPTION:Every Monday from 10am to noon.\nQuilters meet in the Fellowship Hall to work on individual projects and/or to assist on group projects. \nBring your sewing machines and projects or just come and see what the group is all about. \nYou do not have to be a member of the Church to join.
URL:https://www.bethanyfirstchurch.org/event/bethany-quilters-16/
LOCATION:Bethany First Church\, 511 Amity Rd\, Bethany\, CT\, United States
END:VEVENT
BEGIN:VEVENT
DTSTART;TZID=America/New_York:20260323T100000
DTEND;TZID=America/New_York:20260323T120000
DTSTAMP:20260419T152753
CREATED:20260216T214351Z
LAST-MODIFIED:20260216T214351Z
UID:1259-1774260000-1774267200@www.bethanyfirstchurch.org
SUMMARY:Bethany Quilters
DESCRIPTION:Every Monday from 10am to noon.\nQuilters meet in the Fellowship Hall to work on individual projects and/or to assist on group projects. \nBring your sewing machines and projects or just come and see what the group is all about. \nYou do not have to be a member of the Church to join.
URL:https://www.bethanyfirstchurch.org/event/bethany-quilters-17/
LOCATION:Bethany First Church\, 511 Amity Rd\, Bethany\, CT\, United States
END:VEVENT
BEGIN:VEVENT
DTSTART;TZID=America/New_York:20260325T120000
DTEND;TZID=America/New_York:20260325T170000
DTSTAMP:20260419T152753
CREATED:20260227T213610Z
LAST-MODIFIED:20260227T213610Z
UID:1276-1774440000-1774458000@www.bethanyfirstchurch.org
SUMMARY:American Red Cross Blood Drive
DESCRIPTION:Give Blood. Help Save Lives.\nBethany First Church Fellowship Hall\nWednesday\, March 25\, 2026\nNoon to 5 pm\nCall 1-800-RED-CROSS (1-800-733-2767)\nor visit RedCrossBlood.org and search for Bethany First Church to schedule an appointment.\nPre-register at RedCrossBlood.org to receive a $15 Amazon Gift Card.\nAlso in March\, all successful donations can receive free A1C blood testing.
URL:https://www.bethanyfirstchurch.org/event/american-red-cross-blood-drive/
LOCATION:Bethany First Church\, 511 Amity Rd\, Bethany\, CT\, United States
END:VEVENT
BEGIN:VEVENT
DTSTART;TZID=America/New_York:20260327T180000
DTEND;TZID=America/New_York:20260327T203000
DTSTAMP:20260419T152753
CREATED:20260216T214621Z
LAST-MODIFIED:20260320T173730Z
UID:1267-1774634400-1774643400@www.bethanyfirstchurch.org
SUMMARY:Movie Night and Potluck Dinner
DESCRIPTION:Movie Night and Potluck Dinner\nGather with us in the fellowship hall to enjoy a delicious potluck meal\, followed by a family-friendly movie. It’s the perfect chance to connect\, share homemade dishes\, and spend quality time together as a community. Last Friday of every month. \nDate: Friday\, March 27\, 2026 \nTime: 6:00 PM \nMovie Title: Her Alibi (Rated PG) \nHer Alibi is a 1989 romantic comedy-mystery starring Tom Selleck as a mystery novelist with writer’s block who becomes entangled with a beautiful Romanian murder suspect\, played by Paulina Porizkova\, after giving her a false alibi. \nEveryone is welcome\, so bring your family and friends!
URL:https://www.bethanyfirstchurch.org/event/movie-night-and-potluck-dinner-9/
LOCATION:Bethany First Church\, 511 Amity Rd\, Bethany\, CT\, United States
END:VEVENT
BEGIN:VEVENT
DTSTART;TZID=America/New_York:20260330T100000
DTEND;TZID=America/New_York:20260330T120000
DTSTAMP:20260419T152753
CREATED:20260216T214410Z
LAST-MODIFIED:20260216T214410Z
UID:1261-1774864800-1774872000@www.bethanyfirstchurch.org
SUMMARY:Bethany Quilters
DESCRIPTION:Every Monday from 10am to noon.\nQuilters meet in the Fellowship Hall to work on individual projects and/or to assist on group projects. \nBring your sewing machines and projects or just come and see what the group is all about. \nYou do not have to be a member of the Church to join.
URL:https://www.bethanyfirstchurch.org/event/bethany-quilters-18/
LOCATION:Bethany First Church\, 511 Amity Rd\, Bethany\, CT\, United States
END:VEVENT
END:VCALENDAR