BEGIN:VCALENDAR
VERSION:2.0
PRODID:-//Bethany First Church - ECPv6.15.16//NONSGML v1.0//EN
CALSCALE:GREGORIAN
METHOD:PUBLISH
X-ORIGINAL-URL:https://www.bethanyfirstchurch.org
X-WR-CALDESC:Events for Bethany First Church
REFRESH-INTERVAL;VALUE=DURATION:PT1H
X-Robots-Tag:noindex
X-PUBLISHED-TTL:PT1H
BEGIN:VTIMEZONE
TZID:America/New_York
BEGIN:DAYLIGHT
TZOFFSETFROM:-0500
TZOFFSETTO:-0400
TZNAME:EDT
DTSTART:20250309T070000
END:DAYLIGHT
BEGIN:STANDARD
TZOFFSETFROM:-0400
TZOFFSETTO:-0500
TZNAME:EST
DTSTART:20251102T060000
END:STANDARD
BEGIN:DAYLIGHT
TZOFFSETFROM:-0500
TZOFFSETTO:-0400
TZNAME:EDT
DTSTART:20260308T070000
END:DAYLIGHT
BEGIN:STANDARD
TZOFFSETFROM:-0400
TZOFFSETTO:-0500
TZNAME:EST
DTSTART:20261101T060000
END:STANDARD
BEGIN:DAYLIGHT
TZOFFSETFROM:-0500
TZOFFSETTO:-0400
TZNAME:EDT
DTSTART:20270314T070000
END:DAYLIGHT
BEGIN:STANDARD
TZOFFSETFROM:-0400
TZOFFSETTO:-0500
TZNAME:EST
DTSTART:20271107T060000
END:STANDARD
END:VTIMEZONE
BEGIN:VEVENT
DTSTART;TZID=America/New_York:20260222T110000
DTEND;TZID=America/New_York:20260222T123000
DTSTAMP:20260419T171318
CREATED:20260216T215705Z
LAST-MODIFIED:20260216T215705Z
UID:1269-1771758000-1771763400@www.bethanyfirstchurch.org
SUMMARY:Church Annual Meeting and Potluck
DESCRIPTION:Sunday February 22\, 2026 \nPlease join us after service for a Pot Luck and our church annual meeting. We will review the annual reports\, proposed budget\, nominating report and any other business to come before a church meeting.  Members in good standing are able to vote on the budget but all attendees of the church are welcome to participate in the meeting and enjoy the potluck. \nIf you would like to get a copy of the annual reports\, you can email the office or there will be printed copies for review at the meeting.
URL:https://www.bethanyfirstchurch.org/event/church-annual-meeting-and-potluck/
END:VEVENT
BEGIN:VEVENT
DTSTART;TZID=America/New_York:20260223T100000
DTEND;TZID=America/New_York:20260223T120000
DTSTAMP:20260419T171318
CREATED:20260216T213919Z
LAST-MODIFIED:20260216T214215Z
UID:1246-1771840800-1771848000@www.bethanyfirstchurch.org
SUMMARY:Bethany Quilters
DESCRIPTION:Every Monday from 10am to noon.\nQuilters meet in the Fellowship Hall to work on individual projects and/or to assist on group projects. \nBring your sewing machines and projects or just come and see what the group is all about. \nYou do not have to be a member of the Church to join.
URL:https://www.bethanyfirstchurch.org/event/bethany-quilters-13/
LOCATION:Bethany First Church\, 511 Amity Rd\, Bethany\, CT\, United States
END:VEVENT
BEGIN:VEVENT
DTSTART;TZID=America/New_York:20260227T180000
DTEND;TZID=America/New_York:20260227T203000
DTSTAMP:20260419T171318
CREATED:20260216T214023Z
LAST-MODIFIED:20260217T214527Z
UID:1248-1772215200-1772224200@www.bethanyfirstchurch.org
SUMMARY:Movie Night and Potluck Dinner
DESCRIPTION:Movie Night and Potluck Dinner\nGather with us in the fellowship hall to enjoy a delicious potluck meal\, followed by a family-friendly movie. It’s the perfect chance to connect\, share homemade dishes\, and spend quality time together as a community. Last Friday of every month. \nDate: Friday\, February 27\, 2026 \nTime: 6:00 PM \nMovie Title: The Best Exotic Marigold Hotel (2011)… A British comedy/drama about a group of retirees who travel to India for a less expensive retirement with Judi Dench\, Maggie Smith\, and Bill Nighy among others. \nEveryone is welcome\, so bring your family and friends!
URL:https://www.bethanyfirstchurch.org/event/movie-night-and-potluck-dinner-8/
LOCATION:Bethany First Church\, 511 Amity Rd\, Bethany\, CT\, United States
END:VEVENT
END:VCALENDAR