BEGIN:VCALENDAR
VERSION:2.0
PRODID:-//Bethany First Church - ECPv6.15.16//NONSGML v1.0//EN
CALSCALE:GREGORIAN
METHOD:PUBLISH
X-WR-CALNAME:Bethany First Church
X-ORIGINAL-URL:https://www.bethanyfirstchurch.org
X-WR-CALDESC:Events for Bethany First Church
REFRESH-INTERVAL;VALUE=DURATION:PT1H
X-Robots-Tag:noindex
X-PUBLISHED-TTL:PT1H
BEGIN:VTIMEZONE
TZID:America/New_York
BEGIN:DAYLIGHT
TZOFFSETFROM:-0500
TZOFFSETTO:-0400
TZNAME:EDT
DTSTART:20240310T070000
END:DAYLIGHT
BEGIN:STANDARD
TZOFFSETFROM:-0400
TZOFFSETTO:-0500
TZNAME:EST
DTSTART:20241103T060000
END:STANDARD
BEGIN:DAYLIGHT
TZOFFSETFROM:-0500
TZOFFSETTO:-0400
TZNAME:EDT
DTSTART:20250309T070000
END:DAYLIGHT
BEGIN:STANDARD
TZOFFSETFROM:-0400
TZOFFSETTO:-0500
TZNAME:EST
DTSTART:20251102T060000
END:STANDARD
BEGIN:DAYLIGHT
TZOFFSETFROM:-0500
TZOFFSETTO:-0400
TZNAME:EDT
DTSTART:20260308T070000
END:DAYLIGHT
BEGIN:STANDARD
TZOFFSETFROM:-0400
TZOFFSETTO:-0500
TZNAME:EST
DTSTART:20261101T060000
END:STANDARD
END:VTIMEZONE
BEGIN:VEVENT
DTSTART;TZID=America/New_York:20251004T100000
DTEND;TZID=America/New_York:20251004T150000
DTSTAMP:20260419T234436
CREATED:20250818T170256Z
LAST-MODIFIED:20251002T150139Z
UID:965-1759572000-1759590000@www.bethanyfirstchurch.org
SUMMARY:Congregation & Youth Trip to Fidelco Guide Dog -EVENT CANCELED
DESCRIPTION:Event Canceled due to an outbreak of kennel cough!\nVisit to the Fidelco Guide Dog Fall Festival and Open House\nLocated in Bloomfield\, CT\, the Annual Open House features food\, kids corner activities\, raffles\, tours and more. \n8:30 am… Car pool from Bethany First Church \n10:00 am…Walk for Fidelco (must pre-register) \n10:30 am… Blindfold Walks with Dogs in Training \n11:00 am… Olympics \n11:30 am… Guide Dog Demo \n12:00… Police Dog Demo \n1:30 pm… Puppy Olympics \n2:15 pm… Guide Dog Demo \n2:30 pm… Car Show Puppy Awards \nIf interested in attending as part of a group\, contact the Church Office at 203-393-3116 or speak with Deanna.
URL:https://www.bethanyfirstchurch.org/event/congregation-youth-trip/
LOCATION:Fidelco Guide Dog\, 103 Vision Way\, Bloomfield\, CT\, 06002\, United States
END:VEVENT
BEGIN:VEVENT
DTSTART;TZID=America/New_York:20251006T100000
DTEND;TZID=America/New_York:20251006T120000
DTSTAMP:20260419T234436
CREATED:20250907T190114Z
LAST-MODIFIED:20250907T190114Z
UID:1033-1759744800-1759752000@www.bethanyfirstchurch.org
SUMMARY:Quilt Group
DESCRIPTION:Every Monday from 10am to noon.\nQuilters meet in the Fellowship Hall to work on individual projects and/or to assist on group projects. \nBring your sewing machines and projects or just come and see what the group is all about. \nYou do not have to be a member of the Church to join.
URL:https://www.bethanyfirstchurch.org/event/quilt-group-9/
LOCATION:Bethany First Church\, 511 Amity Rd\, Bethany\, CT\, United States
END:VEVENT
BEGIN:VEVENT
DTSTART;TZID=America/New_York:20251013T100000
DTEND;TZID=America/New_York:20251013T120000
DTSTAMP:20260419T234436
CREATED:20250907T190151Z
LAST-MODIFIED:20250907T190151Z
UID:1032-1760349600-1760356800@www.bethanyfirstchurch.org
SUMMARY:Quilt Group
DESCRIPTION:Every Monday from 10am to noon.\nQuilters meet in the Fellowship Hall to work on individual projects and/or to assist on group projects. \nBring your sewing machines and projects or just come and see what the group is all about. \nYou do not have to be a member of the Church to join.
URL:https://www.bethanyfirstchurch.org/event/quilt-group-10/
LOCATION:Bethany First Church\, 511 Amity Rd\, Bethany\, CT\, United States
END:VEVENT
BEGIN:VEVENT
DTSTART;TZID=America/New_York:20251019T150000
DTEND;TZID=America/New_York:20251019T170000
DTSTAMP:20260419T234436
CREATED:20251002T150258Z
LAST-MODIFIED:20251002T150258Z
UID:1075-1760886000-1760893200@www.bethanyfirstchurch.org
SUMMARY:Victorian Dancing
DESCRIPTION:Come and join us for some fun\, exercise\, and camaraderie. Enjoy dances based on the mid-1800s style. No experience needed. No need for a partner. Just a willingness to learn and have fun. \nThe First and Third Sundays of the Month \n3pm – 5pm \nWear comfortable shoes and bring your sense of humor! \nThe cost?  One non-perishable food item for donation
URL:https://www.bethanyfirstchurch.org/event/victorian-dancing-8/
LOCATION:Bethany First Church\, 511 Amity Rd\, Bethany\, CT\, United States
END:VEVENT
BEGIN:VEVENT
DTSTART;TZID=America/New_York:20251020T100000
DTEND;TZID=America/New_York:20251020T120000
DTSTAMP:20260419T234436
CREATED:20250907T190227Z
LAST-MODIFIED:20250907T190227Z
UID:1031-1760954400-1760961600@www.bethanyfirstchurch.org
SUMMARY:Quilt Group
DESCRIPTION:Every Monday from 10am to noon.\nQuilters meet in the Fellowship Hall to work on individual projects and/or to assist on group projects. \nBring your sewing machines and projects or just come and see what the group is all about. \nYou do not have to be a member of the Church to join.
URL:https://www.bethanyfirstchurch.org/event/quilt-group-11/
LOCATION:Bethany First Church\, 511 Amity Rd\, Bethany\, CT\, United States
END:VEVENT
BEGIN:VEVENT
DTSTART;TZID=America/New_York:20251024T180000
DTEND;TZID=America/New_York:20251024T203000
DTSTAMP:20260419T234436
CREATED:20250914T192050Z
LAST-MODIFIED:20251009T143535Z
UID:1027-1761328800-1761337800@www.bethanyfirstchurch.org
SUMMARY:Movie Night and Potluck Dinner
DESCRIPTION:Movie Night and Potluck Dinner\nGather with us in the fellowship hall to enjoy a delicious potluck meal\, followed by a family-friendly movie. It’s the perfect chance to connect\, share homemade dishes\, and spend quality time together as a community. \nDate: Friday\, October 24 (Special Date since the last Friday is Halloween) \nTime: 6:00 PM \nMovie Title: Ghostbusters (1984 Original Version) \nGhostbusters is a classic comedy rated PG and runs 1 hour and 45 minutes. The film was written by Dan Aykroyd and Harold Ramis and stars Bill Murray\, Dan Aykroyd\, Harold Ramis\, Sigourney Weaver\, Rick Moranis\, Annie Potts and Ernie Hudson. \n                           Everyone is welcome\, so bring your family and friends!
URL:https://www.bethanyfirstchurch.org/event/movie-night-and-potluck-dinner-6/
LOCATION:Bethany First Church\, 511 Amity Rd\, Bethany\, CT\, United States
END:VEVENT
BEGIN:VEVENT
DTSTART;TZID=America/New_York:20251027T100000
DTEND;TZID=America/New_York:20251027T120000
DTSTAMP:20260419T234436
CREATED:20250907T190533Z
LAST-MODIFIED:20250907T190533Z
UID:1037-1761559200-1761566400@www.bethanyfirstchurch.org
SUMMARY:Quilt Group
DESCRIPTION:Every Monday from 10am to noon.\nQuilters meet in the Fellowship Hall to work on individual projects and/or to assist on group projects. \nBring your sewing machines and projects or just come and see what the group is all about. \nYou do not have to be a member of the Church to join.
URL:https://www.bethanyfirstchurch.org/event/quilt-group-12/
LOCATION:Bethany First Church\, 511 Amity Rd\, Bethany\, CT\, United States
END:VEVENT
END:VCALENDAR