BEGIN:VCALENDAR
VERSION:2.0
PRODID:-//Bethany First Church - ECPv6.15.16//NONSGML v1.0//EN
CALSCALE:GREGORIAN
METHOD:PUBLISH
X-ORIGINAL-URL:https://www.bethanyfirstchurch.org
X-WR-CALDESC:Events for Bethany First Church
REFRESH-INTERVAL;VALUE=DURATION:PT1H
X-Robots-Tag:noindex
X-PUBLISHED-TTL:PT1H
BEGIN:VTIMEZONE
TZID:America/New_York
BEGIN:DAYLIGHT
TZOFFSETFROM:-0500
TZOFFSETTO:-0400
TZNAME:EDT
DTSTART:20240310T070000
END:DAYLIGHT
BEGIN:STANDARD
TZOFFSETFROM:-0400
TZOFFSETTO:-0500
TZNAME:EST
DTSTART:20241103T060000
END:STANDARD
BEGIN:DAYLIGHT
TZOFFSETFROM:-0500
TZOFFSETTO:-0400
TZNAME:EDT
DTSTART:20250309T070000
END:DAYLIGHT
BEGIN:STANDARD
TZOFFSETFROM:-0400
TZOFFSETTO:-0500
TZNAME:EST
DTSTART:20251102T060000
END:STANDARD
BEGIN:DAYLIGHT
TZOFFSETFROM:-0500
TZOFFSETTO:-0400
TZNAME:EDT
DTSTART:20260308T070000
END:DAYLIGHT
BEGIN:STANDARD
TZOFFSETFROM:-0400
TZOFFSETTO:-0500
TZNAME:EST
DTSTART:20261101T060000
END:STANDARD
END:VTIMEZONE
BEGIN:VEVENT
DTSTART;TZID=America/New_York:20250601T150000
DTEND;TZID=America/New_York:20250601T170000
DTSTAMP:20260420T054105
CREATED:20250505T152605Z
LAST-MODIFIED:20250515T215232Z
UID:821-1748790000-1748797200@www.bethanyfirstchurch.org
SUMMARY:Victorian Dancing
DESCRIPTION:Come and join us for some fun\, exercise\, and camaraderie. Enjoy dances based on the mid-1800s style. No experience needed. No need for a partner. Just a willingness to learn and have fun. \nThe First and Third Sundays of the Month \n3pm – 5pm \nWear comfortable shoes and bring your sense of humor! \nThe cost?  One non-perishable food item for donation
URL:https://www.bethanyfirstchurch.org/event/victorian-dancing-2/
LOCATION:Bethany First Church\, 511 Amity Rd\, Bethany\, CT\, United States
END:VEVENT
BEGIN:VEVENT
DTSTART;TZID=America/New_York:20250602T100000
DTEND;TZID=America/New_York:20250602T120000
DTSTAMP:20260420T054105
CREATED:20250522T200737Z
LAST-MODIFIED:20250525T183437Z
UID:893-1748858400-1748865600@www.bethanyfirstchurch.org
SUMMARY:Quilt Group
DESCRIPTION:Every Monday from 10am to noon.\nQuilters meet in the Fellowship Hall to work on individual projects and/or to assist on group projects. \nBring your sewing machines and projects or just come and see what the group is all about. \nYou do not have to be a member of the Church to join.
URL:https://www.bethanyfirstchurch.org/event/quilt-group/
LOCATION:Bethany First Church\, 511 Amity Rd\, Bethany\, CT\, United States
END:VEVENT
BEGIN:VEVENT
DTSTART;TZID=America/New_York:20250607T100000
DTEND;TZID=America/New_York:20250607T150000
DTSTAMP:20260420T054105
CREATED:20250503T190319Z
LAST-MODIFIED:20250515T220217Z
UID:740-1749290400-1749308400@www.bethanyfirstchurch.org
SUMMARY:Strawberry Festival
DESCRIPTION:Get Ready – Our Annual Strawberry Festival is BACK and Better Than Ever!\nMark your calendars and join us on Saturday\, June 7th\, from 10 AM to 3 PM for a day full of fun\, food\, and community! This year\, we’re turning up the excitement – you won’t want to miss it!\n\nWhat’s in store? – Our famous **homemade strawberry shortcake** – a sweet taste of summer – Local craft vendors with unique treasures and handmade goods – Delicious breakfast and lunch to keep you fueled for the fun – Surprises\, smiles\, and so much more for the whole family\nBring your friends\, your family\, and your appetite – it’s going to be a berry good time!\n\nCall with preorders 203-393-3116!
URL:https://www.bethanyfirstchurch.org/event/strawberry-festival/
LOCATION:Bethany First Church\, 511 Amity Rd\, Bethany\, CT\, United States
END:VEVENT
BEGIN:VEVENT
DTSTART;TZID=America/New_York:20250622T150000
DTEND;TZID=America/New_York:20250622T170000
DTSTAMP:20260420T054105
CREATED:20250522T194552Z
LAST-MODIFIED:20250608T234145Z
UID:889-1750604400-1750611600@www.bethanyfirstchurch.org
SUMMARY:Victorian Dancing
DESCRIPTION:Come and join us for some fun\, exercise\, and camaraderie. Enjoy dances based on the mid-1800s style. No experience needed. No need for a partner. Just a willingness to learn and have fun. \nNo dance on Father’s Day. Victorian Dance will be held on the Fourth Sunday in June. Come join us on June 22nd. \n3pm – 5pm \nWear comfortable shoes and bring your sense of humor! \nThe cost?  One non-perishable food item for donation (optional).
URL:https://www.bethanyfirstchurch.org/event/victorian-dancing-3/
LOCATION:Bethany First Church\, 511 Amity Rd\, Bethany\, CT\, United States
END:VEVENT
BEGIN:VEVENT
DTSTART;TZID=America/New_York:20250623T100000
DTEND;TZID=America/New_York:20250623T120000
DTSTAMP:20260420T054105
CREATED:20250616T172645Z
LAST-MODIFIED:20250616T172645Z
UID:922-1750672800-1750680000@www.bethanyfirstchurch.org
SUMMARY:Quilt Group
DESCRIPTION:Every Monday from 10am to noon.\nQuilters meet in the Fellowship Hall to work on individual projects and/or to assist on group projects. \nBring your sewing machines and projects or just come and see what the group is all about. \nYou do not have to be a member of the Church to join.
URL:https://www.bethanyfirstchurch.org/event/quilt-group-2/
LOCATION:Bethany First Church\, 511 Amity Rd\, Bethany\, CT\, United States
END:VEVENT
BEGIN:VEVENT
DTSTART;TZID=America/New_York:20250627T180000
DTEND;TZID=America/New_York:20250627T203000
DTSTAMP:20260420T054105
CREATED:20250522T194337Z
LAST-MODIFIED:20250616T172933Z
UID:887-1751047200-1751056200@www.bethanyfirstchurch.org
SUMMARY:Movie Night and Potluck Dinner
DESCRIPTION:Movie Night and Potluck Dinner\nGather with us in the fellowship hall to enjoy a delicious potluck meal\, followed by a family-friendly movie. It’s the perfect chance to connect\, share homemade dishes\, and spend quality time together as a community. \nDate: Last Friday of the month – June 27 \nTime: 6:00 PM \nMovie Title: Witness with Harrison Ford \nEveryone is welcome\, so bring your family and friends!
URL:https://www.bethanyfirstchurch.org/event/movie-night-and-potluck-dinner-2/
LOCATION:Bethany First Church\, 511 Amity Rd\, Bethany\, CT\, United States
END:VEVENT
BEGIN:VEVENT
DTSTART;TZID=America/New_York:20250630T100000
DTEND;TZID=America/New_York:20250630T120000
DTSTAMP:20260420T054105
CREATED:20250616T172742Z
LAST-MODIFIED:20250627T193615Z
UID:924-1751277600-1751284800@www.bethanyfirstchurch.org
SUMMARY:Quilt Group
DESCRIPTION:Every Monday from 10am to noon.\nQuilters meet in the Fellowship Hall to work on individual projects and/or to assist on group projects. \nBring your sewing machines and projects or just come and see what the group is all about. \nYou do not have to be a member of the Church to join.
URL:https://www.bethanyfirstchurch.org/event/quilt-group-3/
LOCATION:Bethany First Church\, 511 Amity Rd\, Bethany\, CT\, United States
END:VEVENT
END:VCALENDAR