BEGIN:VCALENDAR
VERSION:2.0
PRODID:-//Bethany First Church - ECPv6.15.16//NONSGML v1.0//EN
CALSCALE:GREGORIAN
METHOD:PUBLISH
X-WR-CALNAME:Bethany First Church
X-ORIGINAL-URL:https://www.bethanyfirstchurch.org
X-WR-CALDESC:Events for Bethany First Church
REFRESH-INTERVAL;VALUE=DURATION:PT1H
X-Robots-Tag:noindex
X-PUBLISHED-TTL:PT1H
BEGIN:VTIMEZONE
TZID:America/New_York
BEGIN:DAYLIGHT
TZOFFSETFROM:-0500
TZOFFSETTO:-0400
TZNAME:EDT
DTSTART:20240310T070000
END:DAYLIGHT
BEGIN:STANDARD
TZOFFSETFROM:-0400
TZOFFSETTO:-0500
TZNAME:EST
DTSTART:20241103T060000
END:STANDARD
BEGIN:DAYLIGHT
TZOFFSETFROM:-0500
TZOFFSETTO:-0400
TZNAME:EDT
DTSTART:20250309T070000
END:DAYLIGHT
BEGIN:STANDARD
TZOFFSETFROM:-0400
TZOFFSETTO:-0500
TZNAME:EST
DTSTART:20251102T060000
END:STANDARD
BEGIN:DAYLIGHT
TZOFFSETFROM:-0500
TZOFFSETTO:-0400
TZNAME:EDT
DTSTART:20260308T070000
END:DAYLIGHT
BEGIN:STANDARD
TZOFFSETFROM:-0400
TZOFFSETTO:-0500
TZNAME:EST
DTSTART:20261101T060000
END:STANDARD
END:VTIMEZONE
BEGIN:VEVENT
DTSTART;TZID=America/New_York:20250517T110000
DTEND;TZID=America/New_York:20250517T140000
DTSTAMP:20260420T040655
CREATED:20250515T221743Z
LAST-MODIFIED:20250515T221743Z
UID:878-1747479600-1747490400@www.bethanyfirstchurch.org
SUMMARY:Nancy Grannis Memorial - Celebration of Life
DESCRIPTION:Saturday May 17th\, 2025 \n11:00 AM \nNancy Louise Grannis \n12/13/1946 ~ 8/20/2024 \nPlease join us as we gather to honor and celebrate the life of Nancy Grannis\, a cherished member of our church family for over 30 years. Nancy passed away on August 20\, 2024\, in Orange Park\, Florida\, but her spirit and legacy continue to live on in the hearts of all who knew her. \nNancy was the beloved wife of Herbert “Lee” Grannis\, III\, and loving mother to Kathryn\, Jennifer\, Herbert\, and Luke. She lived a life marked by service—as a nurse\, a soldier in the U.S. Army\, and in her years of compassionate care at Yale-New Haven Children’s Hospital. Within our church\, Nancy gave selflessly in many roles\, including as a Deacon\, always leading with grace\, humor\, and unwavering faith. \nWe invite you to come and remember Nancy with us\, a luncheon will follow the service\, and all are welcome to attend. Let us give thanks for Nancy’s life\, her faith\, and the enduring impact she made on our community.
URL:https://www.bethanyfirstchurch.org/event/nancy-grannis-memorial-celebration-of-life/
LOCATION:Bethany First Church\, 511 Amity Rd\, Bethany\, CT\, United States
END:VEVENT
BEGIN:VEVENT
DTSTART;TZID=America/New_York:20250507T190000
DTEND;TZID=America/New_York:20250507T203000
DTSTAMP:20260420T040655
CREATED:20250505T153302Z
LAST-MODIFIED:20250505T153343Z
UID:823-1746644400-1746649800@www.bethanyfirstchurch.org
SUMMARY:Bible Study gathering
DESCRIPTION:Wednesday Evening Bible Study\nMay 7 at 7PM\nJoin us for a casual gathering to enjoy soup and bread and good discussion.  Open to all and all are welcome. \nThis Wednesday is the final gathering of this series.  It will be held at the Fredericks Barn\, 4 Bonna St\, Beacon Falls\, CT. \n 
URL:https://www.bethanyfirstchurch.org/event/bible-study-gathering/
LOCATION:4 Bonna Rd\, Beacon Falls\, CT\, 4 Bonna St\, Beacon Falls\, CT\, United States
END:VEVENT
END:VCALENDAR