BEGIN:VCALENDAR
VERSION:2.0
PRODID:-//Bethany First Church - ECPv6.15.16//NONSGML v1.0//EN
CALSCALE:GREGORIAN
METHOD:PUBLISH
X-ORIGINAL-URL:https://www.bethanyfirstchurch.org
X-WR-CALDESC:Events for Bethany First Church
REFRESH-INTERVAL;VALUE=DURATION:PT1H
X-Robots-Tag:noindex
X-PUBLISHED-TTL:PT1H
BEGIN:VTIMEZONE
TZID:America/New_York
BEGIN:DAYLIGHT
TZOFFSETFROM:-0500
TZOFFSETTO:-0400
TZNAME:EDT
DTSTART:20250309T070000
END:DAYLIGHT
BEGIN:STANDARD
TZOFFSETFROM:-0400
TZOFFSETTO:-0500
TZNAME:EST
DTSTART:20251102T060000
END:STANDARD
BEGIN:DAYLIGHT
TZOFFSETFROM:-0500
TZOFFSETTO:-0400
TZNAME:EDT
DTSTART:20260308T070000
END:DAYLIGHT
BEGIN:STANDARD
TZOFFSETFROM:-0400
TZOFFSETTO:-0500
TZNAME:EST
DTSTART:20261101T060000
END:STANDARD
BEGIN:DAYLIGHT
TZOFFSETFROM:-0500
TZOFFSETTO:-0400
TZNAME:EDT
DTSTART:20270314T070000
END:DAYLIGHT
BEGIN:STANDARD
TZOFFSETFROM:-0400
TZOFFSETTO:-0500
TZNAME:EST
DTSTART:20271107T060000
END:STANDARD
END:VTIMEZONE
BEGIN:VEVENT
DTSTART;TZID=America/New_York:20260427T100000
DTEND;TZID=America/New_York:20260427T120000
DTSTAMP:20260420T042924
CREATED:20260412T212735Z
LAST-MODIFIED:20260412T212735Z
UID:1304-1777284000-1777291200@www.bethanyfirstchurch.org
SUMMARY:Bethany Quilters
DESCRIPTION:Every Monday from 10am to noon.\nQuilters meet in the Fellowship Hall to work on individual projects and/or to assist on group projects. \nBring your sewing machines and projects or just come and see what the group is all about. \nYou do not have to be a member of the Church to join.
URL:https://www.bethanyfirstchurch.org/event/bethany-quilters-21/
LOCATION:Bethany First Church\, 511 Amity Rd\, Bethany\, CT\, United States
END:VEVENT
BEGIN:VEVENT
DTSTART;TZID=America/New_York:20260503T150000
DTEND;TZID=America/New_York:20260503T170000
DTSTAMP:20260420T042924
CREATED:20260412T212304Z
LAST-MODIFIED:20260412T212304Z
UID:1298-1777820400-1777827600@www.bethanyfirstchurch.org
SUMMARY:Victorian Dancing
DESCRIPTION:Come and join us for some fun\, exercise\, and camaraderie. Enjoy dances based on the mid-1800s style. No experience needed. No need for a partner. Just a willingness to learn and have fun. \nFirst and Third Sunday of each Month \n3pm – 5pm \nWear comfortable shoes and bring your sense of humor! \nThe cost?  One non-perishable food item for donation (optional).
URL:https://www.bethanyfirstchurch.org/event/victorian-dancing-16/
LOCATION:Bethany First Church\, 511 Amity Rd\, Bethany\, CT\, United States
END:VEVENT
BEGIN:VEVENT
DTSTART;TZID=America/New_York:20260517T150000
DTEND;TZID=America/New_York:20260517T170000
DTSTAMP:20260420T042924
CREATED:20260412T212341Z
LAST-MODIFIED:20260412T212341Z
UID:1297-1779030000-1779037200@www.bethanyfirstchurch.org
SUMMARY:Victorian Dancing
DESCRIPTION:Come and join us for some fun\, exercise\, and camaraderie. Enjoy dances based on the mid-1800s style. No experience needed. No need for a partner. Just a willingness to learn and have fun. \nFirst and Third Sunday of each Month \n3pm – 5pm \nWear comfortable shoes and bring your sense of humor! \nThe cost?  One non-perishable food item for donation (optional).
URL:https://www.bethanyfirstchurch.org/event/victorian-dancing-17/
LOCATION:Bethany First Church\, 511 Amity Rd\, Bethany\, CT\, United States
END:VEVENT
BEGIN:VEVENT
DTSTART;TZID=America/New_York:20260529T180000
DTEND;TZID=America/New_York:20260529T203000
DTSTAMP:20260420T042924
CREATED:20260412T212010Z
LAST-MODIFIED:20260412T212010Z
UID:1293-1780077600-1780086600@www.bethanyfirstchurch.org
SUMMARY:Movie Night and Potluck Dinner
DESCRIPTION:Movie Night and Potluck Dinner\nGather with us in the fellowship hall to enjoy a delicious potluck meal\, followed by a family-friendly movie. It’s the perfect chance to connect\, share homemade dishes\, and spend quality time together as a community. Last Friday of every month. \nDate: Friday\, May 29\, 2026 \nTime: 6:00 PM \nMovie Title: To Be Announced \nEveryone is welcome\, so bring your family and friends!
URL:https://www.bethanyfirstchurch.org/event/movie-night-and-potluck-dinner-11/
LOCATION:Bethany First Church\, 511 Amity Rd\, Bethany\, CT\, United States
END:VEVENT
BEGIN:VEVENT
DTSTART;TZID=America/New_York:20260606T100000
DTEND;TZID=America/New_York:20260606T150000
DTSTAMP:20260420T042924
CREATED:20260412T205651Z
LAST-MODIFIED:20260412T212131Z
UID:1286-1780740000-1780758000@www.bethanyfirstchurch.org
SUMMARY:Strawberry Festival
DESCRIPTION:
URL:https://www.bethanyfirstchurch.org/event/strawberry-festival-2/
LOCATION:Bethany First Church\, 511 Amity Rd\, Bethany\, CT\, United States
END:VEVENT
END:VCALENDAR