BEGIN:VCALENDAR
VERSION:2.0
PRODID:-//Bethany First Church - ECPv6.15.16//NONSGML v1.0//EN
CALSCALE:GREGORIAN
METHOD:PUBLISH
X-ORIGINAL-URL:https://www.bethanyfirstchurch.org
X-WR-CALDESC:Events for Bethany First Church
REFRESH-INTERVAL;VALUE=DURATION:PT1H
X-Robots-Tag:noindex
X-PUBLISHED-TTL:PT1H
BEGIN:VTIMEZONE
TZID:America/New_York
BEGIN:DAYLIGHT
TZOFFSETFROM:-0500
TZOFFSETTO:-0400
TZNAME:EDT
DTSTART:20250309T070000
END:DAYLIGHT
BEGIN:STANDARD
TZOFFSETFROM:-0400
TZOFFSETTO:-0500
TZNAME:EST
DTSTART:20251102T060000
END:STANDARD
BEGIN:DAYLIGHT
TZOFFSETFROM:-0500
TZOFFSETTO:-0400
TZNAME:EDT
DTSTART:20260308T070000
END:DAYLIGHT
BEGIN:STANDARD
TZOFFSETFROM:-0400
TZOFFSETTO:-0500
TZNAME:EST
DTSTART:20261101T060000
END:STANDARD
BEGIN:DAYLIGHT
TZOFFSETFROM:-0500
TZOFFSETTO:-0400
TZNAME:EDT
DTSTART:20270314T070000
END:DAYLIGHT
BEGIN:STANDARD
TZOFFSETFROM:-0400
TZOFFSETTO:-0500
TZNAME:EST
DTSTART:20271107T060000
END:STANDARD
END:VTIMEZONE
BEGIN:VEVENT
DTSTART;TZID=America/New_York:20260227T180000
DTEND;TZID=America/New_York:20260227T203000
DTSTAMP:20260419T171253
CREATED:20260216T214023Z
LAST-MODIFIED:20260217T214527Z
UID:1248-1772215200-1772224200@www.bethanyfirstchurch.org
SUMMARY:Movie Night and Potluck Dinner
DESCRIPTION:Movie Night and Potluck Dinner\nGather with us in the fellowship hall to enjoy a delicious potluck meal\, followed by a family-friendly movie. It’s the perfect chance to connect\, share homemade dishes\, and spend quality time together as a community. Last Friday of every month. \nDate: Friday\, February 27\, 2026 \nTime: 6:00 PM \nMovie Title: The Best Exotic Marigold Hotel (2011)… A British comedy/drama about a group of retirees who travel to India for a less expensive retirement with Judi Dench\, Maggie Smith\, and Bill Nighy among others. \nEveryone is welcome\, so bring your family and friends!
URL:https://www.bethanyfirstchurch.org/event/movie-night-and-potluck-dinner-8/
LOCATION:Bethany First Church\, 511 Amity Rd\, Bethany\, CT\, United States
END:VEVENT
END:VCALENDAR