BEGIN:VCALENDAR
VERSION:2.0
PRODID:-//Bethany First Church - ECPv6.15.16//NONSGML v1.0//EN
CALSCALE:GREGORIAN
METHOD:PUBLISH
X-WR-CALNAME:Bethany First Church
X-ORIGINAL-URL:https://www.bethanyfirstchurch.org
X-WR-CALDESC:Events for Bethany First Church
REFRESH-INTERVAL;VALUE=DURATION:PT1H
X-Robots-Tag:noindex
X-PUBLISHED-TTL:PT1H
BEGIN:VTIMEZONE
TZID:America/New_York
BEGIN:DAYLIGHT
TZOFFSETFROM:-0500
TZOFFSETTO:-0400
TZNAME:EDT
DTSTART:20250309T070000
END:DAYLIGHT
BEGIN:STANDARD
TZOFFSETFROM:-0400
TZOFFSETTO:-0500
TZNAME:EST
DTSTART:20251102T060000
END:STANDARD
BEGIN:DAYLIGHT
TZOFFSETFROM:-0500
TZOFFSETTO:-0400
TZNAME:EDT
DTSTART:20260308T070000
END:DAYLIGHT
BEGIN:STANDARD
TZOFFSETFROM:-0400
TZOFFSETTO:-0500
TZNAME:EST
DTSTART:20261101T060000
END:STANDARD
BEGIN:DAYLIGHT
TZOFFSETFROM:-0500
TZOFFSETTO:-0400
TZNAME:EDT
DTSTART:20270314T070000
END:DAYLIGHT
BEGIN:STANDARD
TZOFFSETFROM:-0400
TZOFFSETTO:-0500
TZNAME:EST
DTSTART:20271107T060000
END:STANDARD
END:VTIMEZONE
BEGIN:VEVENT
DTSTART;TZID=America/New_York:20260128T080000
DTEND;TZID=America/New_York:20260128T200000
DTSTAMP:20260419T202111
CREATED:20260101T182832Z
LAST-MODIFIED:20260101T182832Z
UID:1189-1769587200-1769630400@www.bethanyfirstchurch.org
SUMMARY:Dine To Donate
DESCRIPTION:Help Support Bethany First Church while you enjoy great food at a friendly restaurant. \nCountry Corner Restaurant at 756 Amity Rd. in Bethany has generously offered to donate 15% of food purchases made on Wednesday\, January 28th to the Church. Dine-in or take-out anytime between 8am and 8pm on January 28th. Treat yourself o a great breakfast\, lunch or dinner and help the Church. \n 
URL:https://www.bethanyfirstchurch.org/event/dine-to-donate/
END:VEVENT
END:VCALENDAR