BEGIN:VCALENDAR
VERSION:2.0
PRODID:-//Bethany First Church - ECPv6.15.16//NONSGML v1.0//EN
CALSCALE:GREGORIAN
METHOD:PUBLISH
X-ORIGINAL-URL:https://www.bethanyfirstchurch.org
X-WR-CALDESC:Events for Bethany First Church
REFRESH-INTERVAL;VALUE=DURATION:PT1H
X-Robots-Tag:noindex
X-PUBLISHED-TTL:PT1H
BEGIN:VTIMEZONE
TZID:America/New_York
BEGIN:DAYLIGHT
TZOFFSETFROM:-0500
TZOFFSETTO:-0400
TZNAME:EDT
DTSTART:20240310T070000
END:DAYLIGHT
BEGIN:STANDARD
TZOFFSETFROM:-0400
TZOFFSETTO:-0500
TZNAME:EST
DTSTART:20241103T060000
END:STANDARD
BEGIN:DAYLIGHT
TZOFFSETFROM:-0500
TZOFFSETTO:-0400
TZNAME:EDT
DTSTART:20250309T070000
END:DAYLIGHT
BEGIN:STANDARD
TZOFFSETFROM:-0400
TZOFFSETTO:-0500
TZNAME:EST
DTSTART:20251102T060000
END:STANDARD
BEGIN:DAYLIGHT
TZOFFSETFROM:-0500
TZOFFSETTO:-0400
TZNAME:EDT
DTSTART:20260308T070000
END:DAYLIGHT
BEGIN:STANDARD
TZOFFSETFROM:-0400
TZOFFSETTO:-0500
TZNAME:EST
DTSTART:20261101T060000
END:STANDARD
END:VTIMEZONE
BEGIN:VEVENT
DTSTART;TZID=America/New_York:20251121T180000
DTEND;TZID=America/New_York:20251121T203000
DTSTAMP:20260419T234557
CREATED:20250914T182913Z
LAST-MODIFIED:20251107T202117Z
UID:1022-1763748000-1763757000@www.bethanyfirstchurch.org
SUMMARY:Movie Night and Potluck Dinner
DESCRIPTION:Movie Night and Potluck Dinner\nGather with us in the fellowship hall to enjoy a delicious potluck meal\, followed by a family-friendly movie. It’s the perfect chance to connect\, share homemade dishes\, and spend quality time together as a community. \nDate: November 21\, 2025 \nTime: 6:00 PM \nMovie Title: Dunkirk (2017 Rated PG-13) An amazing story that depicts the Dunkirk evacuation in May of 1940. Allied soldiers were trapped on the beaches of Dunkirk\, France and were rescued by a fleet of naval and civilian vessels\, often called the Miracle of Dunkirk. In the end\, over 300\,000 French\, British\, Dutch and Belgian soldiers were evacuated. \n                                                                                    Everyone is welcome\, so bring your family and friends!
URL:https://www.bethanyfirstchurch.org/event/movie-night-and-potluck-dinner-5/
LOCATION:Bethany First Church\, 511 Amity Rd\, Bethany\, CT\, United States
END:VEVENT
END:VCALENDAR